BEGIN:VCALENDAR
VERSION:2.0
PRODID:-//Kelly Township - ECPv6.15.20//NONSGML v1.0//EN
CALSCALE:GREGORIAN
METHOD:PUBLISH
X-WR-CALNAME:Kelly Township
X-ORIGINAL-URL:https://kellytwp.org
X-WR-CALDESC:Events for Kelly Township
REFRESH-INTERVAL;VALUE=DURATION:PT1H
X-Robots-Tag:noindex
X-PUBLISHED-TTL:PT1H
BEGIN:VTIMEZONE
TZID:America/New_York
BEGIN:DAYLIGHT
TZOFFSETFROM:-0500
TZOFFSETTO:-0400
TZNAME:EDT
DTSTART:20260308T070000
END:DAYLIGHT
BEGIN:STANDARD
TZOFFSETFROM:-0400
TZOFFSETTO:-0500
TZNAME:EST
DTSTART:20261101T060000
END:STANDARD
BEGIN:DAYLIGHT
TZOFFSETFROM:-0500
TZOFFSETTO:-0400
TZNAME:EDT
DTSTART:20270314T070000
END:DAYLIGHT
BEGIN:STANDARD
TZOFFSETFROM:-0400
TZOFFSETTO:-0500
TZNAME:EST
DTSTART:20271107T060000
END:STANDARD
BEGIN:DAYLIGHT
TZOFFSETFROM:-0500
TZOFFSETTO:-0400
TZNAME:EDT
DTSTART:20280312T070000
END:DAYLIGHT
BEGIN:STANDARD
TZOFFSETFROM:-0400
TZOFFSETTO:-0500
TZNAME:EST
DTSTART:20281105T060000
END:STANDARD
END:VTIMEZONE
BEGIN:VEVENT
DTSTART;VALUE=DATE:20270524
DTEND;VALUE=DATE:20270525
DTSTAMP:20260424T002646
CREATED:20250828T180839Z
LAST-MODIFIED:20250828T180839Z
UID:10017386-1811116800-1811203199@kellytwp.org
SUMMARY:HOLIDAY - OFFICE & ROAD DEPT CLOSED - POLLS OPENED
DESCRIPTION:The Township Office and Road Department will be closed in observance of the Spring Primary Election Day.Please note: The Township Building will remain open as a polling location for voters.
URL:https://kellytwp.org/event/holiday-office-road-dept-closed-polls-opened/2027-05-24/
CATEGORIES:Holiday Closure
END:VEVENT
END:VCALENDAR