BEGIN:VCALENDAR
VERSION:2.0
PRODID:-//Kelly Township - ECPv6.15.20//NONSGML v1.0//EN
CALSCALE:GREGORIAN
METHOD:PUBLISH
X-ORIGINAL-URL:https://kellytwp.org
X-WR-CALDESC:Events for Kelly Township
REFRESH-INTERVAL;VALUE=DURATION:PT1H
X-Robots-Tag:noindex
X-PUBLISHED-TTL:PT1H
BEGIN:VTIMEZONE
TZID:America/New_York
BEGIN:DAYLIGHT
TZOFFSETFROM:-0500
TZOFFSETTO:-0400
TZNAME:EDT
DTSTART:20280312T070000
END:DAYLIGHT
BEGIN:STANDARD
TZOFFSETFROM:-0400
TZOFFSETTO:-0500
TZNAME:EST
DTSTART:20281105T060000
END:STANDARD
BEGIN:DAYLIGHT
TZOFFSETFROM:-0500
TZOFFSETTO:-0400
TZNAME:EDT
DTSTART:20290311T070000
END:DAYLIGHT
BEGIN:STANDARD
TZOFFSETFROM:-0400
TZOFFSETTO:-0500
TZNAME:EST
DTSTART:20291104T060000
END:STANDARD
BEGIN:DAYLIGHT
TZOFFSETFROM:-0500
TZOFFSETTO:-0400
TZNAME:EDT
DTSTART:20300310T070000
END:DAYLIGHT
BEGIN:STANDARD
TZOFFSETFROM:-0400
TZOFFSETTO:-0500
TZNAME:EST
DTSTART:20301103T060000
END:STANDARD
BEGIN:DAYLIGHT
TZOFFSETFROM:-0500
TZOFFSETTO:-0400
TZNAME:EDT
DTSTART:20310309T070000
END:DAYLIGHT
BEGIN:STANDARD
TZOFFSETFROM:-0400
TZOFFSETTO:-0500
TZNAME:EST
DTSTART:20311102T060000
END:STANDARD
END:VTIMEZONE
BEGIN:VEVENT
DTSTART;VALUE=DATE:20290403
DTEND;VALUE=DATE:20290404
DTSTAMP:20260423T074337
CREATED:20250826T143003Z
LAST-MODIFIED:20250828T161218Z
UID:10017344-1869868800-1869955199@kellytwp.org
SUMMARY:HOLIDAY - GOOD FRIDAY
DESCRIPTION:
URL:https://kellytwp.org/event/township-closed-for-good-friday/2029-04-03/
CATEGORIES:Holiday Closure
END:VEVENT
BEGIN:VEVENT
DTSTART;VALUE=DATE:20290528
DTEND;VALUE=DATE:20290529
DTSTAMP:20260423T074337
CREATED:20250828T180839Z
LAST-MODIFIED:20250828T180839Z
UID:10017388-1874620800-1874707199@kellytwp.org
SUMMARY:HOLIDAY - OFFICE & ROAD DEPT CLOSED - POLLS OPENED
DESCRIPTION:The Township Office and Road Department will be closed in observance of the Spring Primary Election Day.Please note: The Township Building will remain open as a polling location for voters.
URL:https://kellytwp.org/event/holiday-office-road-dept-closed-polls-opened/2029-05-28/
CATEGORIES:Holiday Closure
END:VEVENT
BEGIN:VEVENT
DTSTART;VALUE=DATE:20290704
DTEND;VALUE=DATE:20290706
DTSTAMP:20260423T074337
CREATED:20250828T174837Z
LAST-MODIFIED:20250828T174837Z
UID:10017378-1877817600-1877990399@kellytwp.org
SUMMARY:HOLIDAY - INDEPENDENCE DAY
DESCRIPTION:
URL:https://kellytwp.org/event/holiday-independence-day/2029-07-04/
CATEGORIES:Holiday Closure
END:VEVENT
BEGIN:VEVENT
DTSTART;TZID=America/New_York:20291031T170000
DTEND;TZID=America/New_York:20291031T200000
DTSTAMP:20260423T074337
CREATED:20250919T142301Z
LAST-MODIFIED:20250919T142301Z
UID:10017410-1888160400-1888171200@kellytwp.org
SUMMARY:Trick or Treating in Kelly Township
DESCRIPTION:
URL:https://kellytwp.org/event/trick-or-treating-in-kelly-township/2029-10-31/
CATEGORIES:Holiday Closure
END:VEVENT
BEGIN:VEVENT
DTSTART;VALUE=DATE:20291106
DTEND;VALUE=DATE:20291107
DTSTAMP:20260423T074337
CREATED:20250828T162107Z
LAST-MODIFIED:20250828T174148Z
UID:10017373-1888617600-1888703999@kellytwp.org
SUMMARY:HOLIDAY - OFFICE & ROAD DEPT CLOSED - POLLS OPENED
DESCRIPTION:The Township Office and Road Department will be closed in observance of Election Day.Please note: The Township Building will remain open as a polling location for voters.
URL:https://kellytwp.org/event/township-closed-for-spring-primary-election/2029-11-06/
CATEGORIES:Holiday Closure
END:VEVENT
BEGIN:VEVENT
DTSTART;VALUE=DATE:20291225
DTEND;VALUE=DATE:20291226
DTSTAMP:20260423T074337
CREATED:20250828T181436Z
LAST-MODIFIED:20250828T181436Z
UID:10017395-1892851200-1892937599@kellytwp.org
SUMMARY:HOLIDAY - CHRISTMAS
DESCRIPTION:
URL:https://kellytwp.org/event/holiday-christmas/2029-12-25/
CATEGORIES:Holiday Closure
END:VEVENT
BEGIN:VEVENT
DTSTART;VALUE=DATE:20300101
DTEND;VALUE=DATE:20300102
DTSTAMP:20260423T074337
CREATED:20250826T142028Z
LAST-MODIFIED:20250828T172956Z
UID:10017328-1893456000-1893542399@kellytwp.org
SUMMARY:HOLIDAY - NEW YEARS DAY
DESCRIPTION:
URL:https://kellytwp.org/event/holiday/2030-01-01/
CATEGORIES:Holiday Closure
END:VEVENT
BEGIN:VEVENT
DTSTART;VALUE=DATE:20300403
DTEND;VALUE=DATE:20300404
DTSTAMP:20260423T074337
CREATED:20250826T143003Z
LAST-MODIFIED:20250828T161218Z
UID:10017345-1901404800-1901491199@kellytwp.org
SUMMARY:HOLIDAY - GOOD FRIDAY
DESCRIPTION:
URL:https://kellytwp.org/event/township-closed-for-good-friday/2030-04-03/
CATEGORIES:Holiday Closure
END:VEVENT
BEGIN:VEVENT
DTSTART;VALUE=DATE:20300527
DTEND;VALUE=DATE:20300528
DTSTAMP:20260423T074337
CREATED:20250828T180839Z
LAST-MODIFIED:20250828T180839Z
UID:10017389-1906070400-1906156799@kellytwp.org
SUMMARY:HOLIDAY - OFFICE & ROAD DEPT CLOSED - POLLS OPENED
DESCRIPTION:The Township Office and Road Department will be closed in observance of the Spring Primary Election Day.Please note: The Township Building will remain open as a polling location for voters.
URL:https://kellytwp.org/event/holiday-office-road-dept-closed-polls-opened/2030-05-27/
CATEGORIES:Holiday Closure
END:VEVENT
BEGIN:VEVENT
DTSTART;VALUE=DATE:20300704
DTEND;VALUE=DATE:20300706
DTSTAMP:20260423T074337
CREATED:20250828T174837Z
LAST-MODIFIED:20250828T174837Z
UID:10017379-1909353600-1909526399@kellytwp.org
SUMMARY:HOLIDAY - INDEPENDENCE DAY
DESCRIPTION:
URL:https://kellytwp.org/event/holiday-independence-day/2030-07-04/
CATEGORIES:Holiday Closure
END:VEVENT
END:VCALENDAR