BEGIN:VCALENDAR
VERSION:2.0
PRODID:-//Kelly Township - ECPv6.15.20//NONSGML v1.0//EN
CALSCALE:GREGORIAN
METHOD:PUBLISH
X-ORIGINAL-URL:https://kellytwp.org
X-WR-CALDESC:Events for Kelly Township
REFRESH-INTERVAL;VALUE=DURATION:PT1H
X-Robots-Tag:noindex
X-PUBLISHED-TTL:PT1H
BEGIN:VTIMEZONE
TZID:America/New_York
BEGIN:DAYLIGHT
TZOFFSETFROM:-0500
TZOFFSETTO:-0400
TZNAME:EDT
DTSTART:20240310T070000
END:DAYLIGHT
BEGIN:STANDARD
TZOFFSETFROM:-0400
TZOFFSETTO:-0500
TZNAME:EST
DTSTART:20241103T060000
END:STANDARD
BEGIN:DAYLIGHT
TZOFFSETFROM:-0500
TZOFFSETTO:-0400
TZNAME:EDT
DTSTART:20250309T070000
END:DAYLIGHT
BEGIN:STANDARD
TZOFFSETFROM:-0400
TZOFFSETTO:-0500
TZNAME:EST
DTSTART:20251102T060000
END:STANDARD
BEGIN:DAYLIGHT
TZOFFSETFROM:-0500
TZOFFSETTO:-0400
TZNAME:EDT
DTSTART:20260308T070000
END:DAYLIGHT
BEGIN:STANDARD
TZOFFSETFROM:-0400
TZOFFSETTO:-0500
TZNAME:EST
DTSTART:20261101T060000
END:STANDARD
END:VTIMEZONE
BEGIN:VEVENT
DTSTART;TZID=America/New_York:20251015T180000
DTEND;TZID=America/New_York:20251015T200000
DTSTAMP:20260423T052619
CREATED:20250613T191844Z
LAST-MODIFIED:20250613T192043Z
UID:10017230-1760551200-1760558400@kellytwp.org
SUMMARY:Supervisors Workshop Meeting
DESCRIPTION:Bimonthly Workshop Meeting
URL:https://kellytwp.org/event/supervisors-workshop-meeting/2025-10-15/
LOCATION:Kelly Township Building\, 551 Ziegler Rd\, Lewisburg\, PA\, 17837\, United States
CATEGORIES:Meeting
END:VEVENT
BEGIN:VEVENT
DTSTART;TZID=America/New_York:20250915T180000
DTEND;TZID=America/New_York:20250915T200000
DTSTAMP:20260423T052619
CREATED:20250613T191323Z
LAST-MODIFIED:20250613T192226Z
UID:10017169-1757959200-1757966400@kellytwp.org
SUMMARY:Planning Commission Meeting
DESCRIPTION:Planning Commission Meeting
URL:https://kellytwp.org/event/planning-commission-meeting/2025-09-15/
LOCATION:Kelly Township Building\, 551 Ziegler Rd\, Lewisburg\, PA\, 17837\, United States
CATEGORIES:Meeting
END:VEVENT
BEGIN:VEVENT
DTSTART;TZID=America/New_York:20250820T153000
DTEND;TZID=America/New_York:20250820T170000
DTSTAMP:20260423T052619
CREATED:20251111T233013Z
LAST-MODIFIED:20251106T205110Z
UID:10017229-1755703800-1755709200@kellytwp.org
SUMMARY:Supervisors 3rd Budget & Work Session Meeting
DESCRIPTION:Bimonthly Workshop Meeting
URL:https://kellytwp.org/event/supervisors-workshop-meeting-2/
LOCATION:Kelly Township Building\, 551 Ziegler Rd\, Lewisburg\, PA\, 17837\, United States
CATEGORIES:Meeting
END:VEVENT
BEGIN:VEVENT
DTSTART;TZID=America/New_York:20250818T180000
DTEND;TZID=America/New_York:20250818T200000
DTSTAMP:20260423T052619
CREATED:20250613T191323Z
LAST-MODIFIED:20250613T192226Z
UID:10017168-1755540000-1755547200@kellytwp.org
SUMMARY:Planning Commission Meeting
DESCRIPTION:Planning Commission Meeting
URL:https://kellytwp.org/event/planning-commission-meeting/2025-08-18/
LOCATION:Kelly Township Building\, 551 Ziegler Rd\, Lewisburg\, PA\, 17837\, United States
CATEGORIES:Meeting
END:VEVENT
BEGIN:VEVENT
DTSTART;TZID=America/New_York:20250721T180000
DTEND;TZID=America/New_York:20250721T200000
DTSTAMP:20260423T052619
CREATED:20250613T191323Z
LAST-MODIFIED:20250613T192226Z
UID:10017167-1753120800-1753128000@kellytwp.org
SUMMARY:Planning Commission Meeting
DESCRIPTION:Planning Commission Meeting
URL:https://kellytwp.org/event/planning-commission-meeting/2025-07-21/
LOCATION:Kelly Township Building\, 551 Ziegler Rd\, Lewisburg\, PA\, 17837\, United States
CATEGORIES:Meeting
END:VEVENT
BEGIN:VEVENT
DTSTART;TZID=America/New_York:20250618T180000
DTEND;TZID=America/New_York:20250618T200000
DTSTAMP:20260423T052619
CREATED:20250613T191844Z
LAST-MODIFIED:20250613T192043Z
UID:10017228-1750269600-1750276800@kellytwp.org
SUMMARY:Supervisors Workshop Meeting
DESCRIPTION:Bimonthly Workshop Meeting
URL:https://kellytwp.org/event/supervisors-workshop-meeting/2025-06-18/
LOCATION:Kelly Township Building\, 551 Ziegler Rd\, Lewisburg\, PA\, 17837\, United States
CATEGORIES:Meeting
END:VEVENT
BEGIN:VEVENT
DTSTART;TZID=America/New_York:20250616T180000
DTEND;TZID=America/New_York:20250616T200000
DTSTAMP:20260423T052619
CREATED:20250613T191323Z
LAST-MODIFIED:20250613T192226Z
UID:10017166-1750096800-1750104000@kellytwp.org
SUMMARY:Planning Commission Meeting
DESCRIPTION:Planning Commission Meeting
URL:https://kellytwp.org/event/planning-commission-meeting/2025-06-16/
LOCATION:Kelly Township Building\, 551 Ziegler Rd\, Lewisburg\, PA\, 17837\, United States
CATEGORIES:Meeting
END:VEVENT
BEGIN:VEVENT
DTSTART;TZID=America/New_York:20250512T180000
DTEND;TZID=America/New_York:20250512T200000
DTSTAMP:20260423T052619
CREATED:20250613T191323Z
LAST-MODIFIED:20250613T192226Z
UID:10017165-1747072800-1747080000@kellytwp.org
SUMMARY:Planning Commission Meeting
DESCRIPTION:Planning Commission Meeting
URL:https://kellytwp.org/event/planning-commission-meeting/2025-05-12/
LOCATION:Kelly Township Building\, 551 Ziegler Rd\, Lewisburg\, PA\, 17837\, United States
CATEGORIES:Meeting
END:VEVENT
BEGIN:VEVENT
DTSTART;TZID=America/New_York:20250421T180000
DTEND;TZID=America/New_York:20250421T200000
DTSTAMP:20260423T052619
CREATED:20250613T191323Z
LAST-MODIFIED:20250613T192226Z
UID:10017164-1745258400-1745265600@kellytwp.org
SUMMARY:Planning Commission Meeting
DESCRIPTION:Planning Commission Meeting
URL:https://kellytwp.org/event/planning-commission-meeting/2025-04-21/
LOCATION:Kelly Township Building\, 551 Ziegler Rd\, Lewisburg\, PA\, 17837\, United States
CATEGORIES:Meeting
END:VEVENT
BEGIN:VEVENT
DTSTART;TZID=America/New_York:20250416T180000
DTEND;TZID=America/New_York:20250416T200000
DTSTAMP:20260423T052619
CREATED:20250613T191844Z
LAST-MODIFIED:20250613T192043Z
UID:10017227-1744826400-1744833600@kellytwp.org
SUMMARY:Supervisors Workshop Meeting
DESCRIPTION:Bimonthly Workshop Meeting
URL:https://kellytwp.org/event/supervisors-workshop-meeting/2025-04-16/
LOCATION:Kelly Township Building\, 551 Ziegler Rd\, Lewisburg\, PA\, 17837\, United States
CATEGORIES:Meeting
END:VEVENT
BEGIN:VEVENT
DTSTART;TZID=America/New_York:20250317T180000
DTEND;TZID=America/New_York:20250317T200000
DTSTAMP:20260423T052619
CREATED:20250613T191323Z
LAST-MODIFIED:20250613T192226Z
UID:10017163-1742234400-1742241600@kellytwp.org
SUMMARY:Planning Commission Meeting
DESCRIPTION:Planning Commission Meeting
URL:https://kellytwp.org/event/planning-commission-meeting/2025-03-17/
LOCATION:Kelly Township Building\, 551 Ziegler Rd\, Lewisburg\, PA\, 17837\, United States
CATEGORIES:Meeting
END:VEVENT
BEGIN:VEVENT
DTSTART;TZID=America/New_York:20250219T180000
DTEND;TZID=America/New_York:20250219T200000
DTSTAMP:20260423T052619
CREATED:20250613T191844Z
LAST-MODIFIED:20250613T192043Z
UID:10017226-1739988000-1739995200@kellytwp.org
SUMMARY:Supervisors Workshop Meeting
DESCRIPTION:Bimonthly Workshop Meeting
URL:https://kellytwp.org/event/supervisors-workshop-meeting/2025-02-19/
LOCATION:Kelly Township Building\, 551 Ziegler Rd\, Lewisburg\, PA\, 17837\, United States
CATEGORIES:Meeting
END:VEVENT
BEGIN:VEVENT
DTSTART;TZID=America/New_York:20250217T180000
DTEND;TZID=America/New_York:20250217T200000
DTSTAMP:20260423T052619
CREATED:20250613T191323Z
LAST-MODIFIED:20250613T192226Z
UID:10017162-1739815200-1739822400@kellytwp.org
SUMMARY:Planning Commission Meeting
DESCRIPTION:Planning Commission Meeting
URL:https://kellytwp.org/event/planning-commission-meeting/2025-02-17/
LOCATION:Kelly Township Building\, 551 Ziegler Rd\, Lewisburg\, PA\, 17837\, United States
CATEGORIES:Meeting
END:VEVENT
BEGIN:VEVENT
DTSTART;TZID=America/New_York:20250120T180000
DTEND;TZID=America/New_York:20250120T200000
DTSTAMP:20260423T052619
CREATED:20250613T191323Z
LAST-MODIFIED:20250613T192226Z
UID:10017161-1737396000-1737403200@kellytwp.org
SUMMARY:Planning Commission Meeting
DESCRIPTION:Planning Commission Meeting
URL:https://kellytwp.org/event/planning-commission-meeting/2025-01-20/
LOCATION:Kelly Township Building\, 551 Ziegler Rd\, Lewisburg\, PA\, 17837\, United States
CATEGORIES:Meeting
END:VEVENT
END:VCALENDAR